BEGIN:VCALENDAR
VERSION:2.0
PRODID:icalendar-ruby
CALSCALE:GREGORIAN
BEGIN:VEVENT
DTSTAMP:20260419T144753Z
UID:f2f50412-6801-41ef-8bde-12cd47740c1e
DTSTART;VALUE=DATE:20251203
DESCRIPTION:Property ID# 600317\, Locatoin: Harcourts Auction Rooms\, 1 Thi
 rd Avenue\, Tauranga (Unless Sold Prior)\, Time: 11:30AM
SUMMARY:Auction for 
END:VEVENT
END:VCALENDAR
