BEGIN:VCALENDAR
VERSION:2.0
PRODID:icalendar-ruby
CALSCALE:GREGORIAN
BEGIN:VEVENT
DTSTAMP:20260421T085701Z
UID:0a5bec8e-8d1d-497b-99ef-89d57625c5ff
DTSTART;VALUE=DATE:20260422
DESCRIPTION:Property ID# 606365\, Locatoin: Harcourts Auction Rooms\, 1 Thi
 rd Avenue\, Tauranga\, Time: 10:30AM
SUMMARY:Auction for 30/31 Reynolds Place
END:VEVENT
END:VCALENDAR
